BEGIN:VCALENDAR
VERSION:2.0
PRODID:-//pretix//jufo-alumni_pretix//
BEGIN:VTIMEZONE
TZID:Europe/Berlin
BEGIN:STANDARD
DTSTART:20001029T040000
RRULE:FREQ=YEARLY;BYDAY=-1SU;BYMONTH=10
TZNAME:CET
TZOFFSETFROM:+0200
TZOFFSETTO:+0100
END:STANDARD
BEGIN:DAYLIGHT
DTSTART:20000326T030000
RRULE:FREQ=YEARLY;BYDAY=-1SU;BYMONTH=3
TZNAME:CEST
TZOFFSETFROM:+0100
TZOFFSETTO:+0200
END:DAYLIGHT
END:VTIMEZONE
BEGIN:VEVENT
UID:pretix-jufo-alumni-3ueqp-2-0@tickets.jufo-alumni.de
DTSTART;TZID=Europe/Berlin:20201212T110000
DTEND;TZID=Europe/Berlin:20201212T180000
DESCRIPTION:Tickets: https://tickets.jufo-alumni.de/jufo-alumni/3ueqp-2/\nV
 eranstalter: Jufo Alumni
DTSTAMP:20260420T010013Z
LOCATION:Weitere Informationen folgen kurz vor der Veranstaltung.
SUMMARY:6. Jufo Mentoring (Ein Jufo-Samstag)
END:VEVENT
END:VCALENDAR
